BEGIN:VCALENDAR
VERSION:2.0
PRODID:-//Village Laguna - ECPv6.15.20//NONSGML v1.0//EN
CALSCALE:GREGORIAN
METHOD:PUBLISH
X-ORIGINAL-URL:https://villagelaguna.org
X-WR-CALDESC:Events for Village Laguna
REFRESH-INTERVAL;VALUE=DURATION:PT1H
X-Robots-Tag:noindex
X-PUBLISHED-TTL:PT1H
BEGIN:VTIMEZONE
TZID:America/Los_Angeles
BEGIN:DAYLIGHT
TZOFFSETFROM:-0800
TZOFFSETTO:-0700
TZNAME:PDT
DTSTART:20240310T100000
END:DAYLIGHT
BEGIN:STANDARD
TZOFFSETFROM:-0700
TZOFFSETTO:-0800
TZNAME:PST
DTSTART:20241103T090000
END:STANDARD
BEGIN:DAYLIGHT
TZOFFSETFROM:-0800
TZOFFSETTO:-0700
TZNAME:PDT
DTSTART:20250309T100000
END:DAYLIGHT
BEGIN:STANDARD
TZOFFSETFROM:-0700
TZOFFSETTO:-0800
TZNAME:PST
DTSTART:20251102T090000
END:STANDARD
BEGIN:DAYLIGHT
TZOFFSETFROM:-0800
TZOFFSETTO:-0700
TZNAME:PDT
DTSTART:20260308T100000
END:DAYLIGHT
BEGIN:STANDARD
TZOFFSETFROM:-0700
TZOFFSETTO:-0800
TZNAME:PST
DTSTART:20261101T090000
END:STANDARD
END:VTIMEZONE
BEGIN:VEVENT
DTSTART;TZID=America/Los_Angeles:20251027T190000
DTEND;TZID=America/Los_Angeles:20251027T210000
DTSTAMP:20260421T132022
CREATED:20251023T213855Z
LAST-MODIFIED:20251023T214629Z
UID:4952-1761591600-1761598800@villagelaguna.org
SUMMARY:Historic Preservation Important?
DESCRIPTION:Attend Village Laguna Zoom meeting October 27\, 7 p.m. See link below\nEsther and Frances Egan with their trusty steed Gill\, near their family homestead circa 1920. \n \nThe Egan homestead is the current focus of our historic preservation efforts\, with an appeal of the Design Review Board’s approval of demolition of this last remaining homesteader house.   Filed by neighbors\, Village Laguna and South Laguna Civic Association\, the appeal emphasizes the opinions of two historical consultants that the property is eligible for the California Register of Historical Resources\, and the National Register of Historic Places\, because of its local role in the implementation of the Homestead Act\, signed by Abraham Lincoln in 1862.  Competing historical reports\, one funded by the developer\, dispute those findings. \nView meeting insights with Zoom AI Companion\nhttps://us02web.zoom.us/launch/edl?muid=992164fe-4ddc-4ae4-8e4c-a157d23d987d \nMeeting ID: 824 9417 6305\nPasscode: 071791\n—\nOne tap mobile\n+16699006833\,\,82494176305#\,\,\,\,*071791# US (San Jose)\n+16694449171\,\,82494176305#\,\,\,\,*071791# US \nJoin instructions\nhttps://us02web.zoom.us/meetings/82494176305/invitations?signature=TYLQ6vU2FTteHp7vXe3aHDv4olyqnIFiflYYftJIkOA \nThe meeting will feature the story of the Egan family as they worked to establish their homestead claim (1909) and their part in the growing community as it turned from farms to town.  We will also include a progress report on our historic preservation efforts. \nTopic: Village Laguna General Meeting\nTime: Oct 27\, 2025 07:00 PM Pacific Time (US and Canada)\nJoin Zoom Meeting\nhttps://us02web.zoom.us/j/82494176305?pwd=VWeZIP6w0qAreke5n9UtWOmw0yA60w.1
URL:https://villagelaguna.org/event/historic-preservation-important/
CATEGORIES:Special Event
END:VEVENT
END:VCALENDAR