BEGIN:VCALENDAR
VERSION:2.0
PRODID:-//Village Laguna - ECPv6.15.20//NONSGML v1.0//EN
CALSCALE:GREGORIAN
METHOD:PUBLISH
X-ORIGINAL-URL:https://villagelaguna.org
X-WR-CALDESC:Events for Village Laguna
REFRESH-INTERVAL;VALUE=DURATION:PT1H
X-Robots-Tag:noindex
X-PUBLISHED-TTL:PT1H
BEGIN:VTIMEZONE
TZID:America/Los_Angeles
BEGIN:DAYLIGHT
TZOFFSETFROM:-0800
TZOFFSETTO:-0700
TZNAME:PDT
DTSTART:20220313T100000
END:DAYLIGHT
BEGIN:STANDARD
TZOFFSETFROM:-0700
TZOFFSETTO:-0800
TZNAME:PST
DTSTART:20221106T090000
END:STANDARD
BEGIN:DAYLIGHT
TZOFFSETFROM:-0800
TZOFFSETTO:-0700
TZNAME:PDT
DTSTART:20230312T100000
END:DAYLIGHT
BEGIN:STANDARD
TZOFFSETFROM:-0700
TZOFFSETTO:-0800
TZNAME:PST
DTSTART:20231105T090000
END:STANDARD
BEGIN:DAYLIGHT
TZOFFSETFROM:-0800
TZOFFSETTO:-0700
TZNAME:PDT
DTSTART:20240310T100000
END:DAYLIGHT
BEGIN:STANDARD
TZOFFSETFROM:-0700
TZOFFSETTO:-0800
TZNAME:PST
DTSTART:20241103T090000
END:STANDARD
BEGIN:DAYLIGHT
TZOFFSETFROM:-0800
TZOFFSETTO:-0700
TZNAME:PDT
DTSTART:20250309T100000
END:DAYLIGHT
BEGIN:STANDARD
TZOFFSETFROM:-0700
TZOFFSETTO:-0800
TZNAME:PST
DTSTART:20251102T090000
END:STANDARD
BEGIN:DAYLIGHT
TZOFFSETFROM:-0800
TZOFFSETTO:-0700
TZNAME:PDT
DTSTART:20260308T100000
END:DAYLIGHT
BEGIN:STANDARD
TZOFFSETFROM:-0700
TZOFFSETTO:-0800
TZNAME:PST
DTSTART:20261101T090000
END:STANDARD
END:VTIMEZONE
BEGIN:VTIMEZONE
TZID:UTC
BEGIN:STANDARD
TZOFFSETFROM:+0000
TZOFFSETTO:+0000
TZNAME:UTC
DTSTART:20220101T000000
END:STANDARD
END:VTIMEZONE
BEGIN:VEVENT
DTSTART;TZID=America/Los_Angeles:20231202T090000
DTEND;TZID=America/Los_Angeles:20231202T103000
DTSTAMP:20260421T012134
CREATED:20231016T205126Z
LAST-MODIFIED:20231016T205126Z
UID:3378-1701507600-1701513000@villagelaguna.org
SUMMARY:Village Laguna Board Meeting - Zoom
DESCRIPTION:Our Board meeting will be Saturday November 4\, 9 AM on zoom.
URL:https://villagelaguna.org/event/village-laguna-board-meeting-zoom/
END:VEVENT
BEGIN:VEVENT
DTSTART;VALUE=DATE:20231207
DTEND;VALUE=DATE:20231216
DTSTAMP:20260421T012134
CREATED:20230921T160508Z
LAST-MODIFIED:20230921T160508Z
UID:3345-1701907200-1702684799@villagelaguna.org
SUMMARY:Hanukkah
DESCRIPTION:Hanukkah (or Chanukah) begins at sundown on Thursday\, December 7\, 2023\, and ends the evening of Friday\, December 15\, 2023 (8 nights)
URL:https://villagelaguna.org/event/hanukkah/
END:VEVENT
BEGIN:VEVENT
DTSTART;TZID=UTC:20231212T170000
DTEND;TZID=UTC:20231212T220000
DTSTAMP:20260421T012134
CREATED:20230525T080156Z
LAST-MODIFIED:20230525T080156Z
UID:2254-1702400400-1702418400@villagelaguna.org
SUMMARY:City Council Meeting
DESCRIPTION:
URL:https://villagelaguna.org/event/city-council-meeting-13/
LOCATION:City Hall\, 505 Forest Ave\, Laguna Beach\, CA 9265\, Laguna Beach\, CA\, 92651\, United States
CATEGORIES:Council Meetings
ATTACH;FMTTYPE=image/jpeg:https://villagelaguna.org/wp-content/uploads/2023/05/IMG_4125-scaled.jpg
END:VEVENT
BEGIN:VEVENT
DTSTART;TZID=America/Los_Angeles:20231218T180000
DTEND;TZID=America/Los_Angeles:20231218T210000
DTSTAMP:20260421T012134
CREATED:20231016T204733Z
LAST-MODIFIED:20231016T204948Z
UID:3376-1702922400-1702933200@villagelaguna.org
SUMMARY:Village Laguna - Holiday Party
DESCRIPTION:The Village Laguna Holiday party will be Monday\, December 18\, 6 PM at the Congregational Church
URL:https://villagelaguna.org/event/village-laguna-holiday-party/
END:VEVENT
BEGIN:VEVENT
DTSTART;VALUE=DATE:20231225
DTEND;VALUE=DATE:20231226
DTSTAMP:20260421T012134
CREATED:20230525T010832Z
LAST-MODIFIED:20230921T155916Z
UID:2188-1703462400-1703548799@villagelaguna.org
SUMMARY:Christmas
DESCRIPTION:CHRISTMAS
URL:https://villagelaguna.org/event/xmas/
ATTACH;FMTTYPE=image/png:https://villagelaguna.org/wp-content/uploads/2023/05/3.png
END:VEVENT
BEGIN:VEVENT
DTSTART;TZID=America/Los_Angeles:20240106T090000
DTEND;TZID=America/Los_Angeles:20240106T100000
DTSTAMP:20260421T012134
CREATED:20240103T161728Z
LAST-MODIFIED:20240103T161833Z
UID:3483-1704531600-1704535200@villagelaguna.org
SUMMARY:Village Laguna Board Meeting - home of Janet Bescoby
DESCRIPTION:Village Laguna Board Meeting \n\nJanuary 6 | 9 AM @ home of Janet Bescoby
URL:https://villagelaguna.org/event/village-laguna-board-meeting/
END:VEVENT
BEGIN:VEVENT
DTSTART;TZID=America/Los_Angeles:20240212T170000
DTEND;TZID=America/Los_Angeles:20240212T220000
DTSTAMP:20260421T012134
CREATED:20240213T052804Z
LAST-MODIFIED:20240213T052821Z
UID:3550-1707757200-1707775200@villagelaguna.org
SUMMARY:City Council Meeting
DESCRIPTION:Tuesday – March 12 – City Council Meeting
URL:https://villagelaguna.org/event/city-council-meeting-15/
ATTACH;FMTTYPE=image/jpeg:https://villagelaguna.org/wp-content/uploads/2023/05/IMG_4129-scaled.jpg
END:VEVENT
BEGIN:VEVENT
DTSTART;TZID=America/Los_Angeles:20240213T170000
DTEND;TZID=America/Los_Angeles:20240213T210000
DTSTAMP:20260421T012134
CREATED:20240213T051659Z
LAST-MODIFIED:20240213T051953Z
UID:3542-1707843600-1707858000@villagelaguna.org
SUMMARY:Tuesday\, February 13\, - City Council Meeting
DESCRIPTION:Tuesday\, February 13\, 2023\nafter 5 p.m.
URL:https://villagelaguna.org/event/tuesday-february-13-city-council-meeting/
ATTACH;FMTTYPE=image/jpeg:https://villagelaguna.org/wp-content/uploads/2023/05/IMG_4129-scaled.jpg
END:VEVENT
BEGIN:VEVENT
DTSTART;TZID=America/Los_Angeles:20240226T190000
DTEND;TZID=America/Los_Angeles:20240226T210000
DTSTAMP:20260421T012134
CREATED:20240213T052355Z
LAST-MODIFIED:20240216T155505Z
UID:3546-1708974000-1708981200@villagelaguna.org
SUMMARY:Village Laguna Board Membership Meeting February 26
DESCRIPTION:Village Laguna Membership Meeting\nFebruary 26 @ 7:00 pm\nAt the home of Johanna and Gene Felder\nPlease RSVP at villagelagunainfo@gmail.com\nNEWSLETTER
URL:https://villagelaguna.org/event/village-laguna-board-meeting-february-26/
ATTACH;FMTTYPE=image/png:https://villagelaguna.org/wp-content/uploads/2023/02/VL-Logo-800w-z.png
END:VEVENT
BEGIN:VEVENT
DTSTART;TZID=America/Los_Angeles:20240227T170000
DTEND;TZID=America/Los_Angeles:20240227T220000
DTSTAMP:20260421T012134
CREATED:20240213T052212Z
LAST-MODIFIED:20240213T052218Z
UID:3544-1709053200-1709071200@villagelaguna.org
SUMMARY:Tuesday\, February 27\, - City Council Meeting
DESCRIPTION:Tuesday\, February 27\, 2023\nafter 5 p.m.
URL:https://villagelaguna.org/event/tuesday-february-27-city-council-meeting/
ATTACH;FMTTYPE=image/jpeg:https://villagelaguna.org/wp-content/uploads/2023/05/IMG_4129-scaled.jpg
END:VEVENT
BEGIN:VEVENT
DTSTART;TZID=America/Los_Angeles:20240302T080000
DTEND;TZID=America/Los_Angeles:20240302T170000
DTSTAMP:20260421T012134
CREATED:20240213T052525Z
LAST-MODIFIED:20240213T052535Z
UID:3548-1709366400-1709398800@villagelaguna.org
SUMMARY:Village Laguna Board Meeting
DESCRIPTION:Village Laguna Board Meeting – 9:00am \n\nMarch 2 | 9 AM | ZOOM
URL:https://villagelaguna.org/event/village-laguna-board-meeting-2/
ATTACH;FMTTYPE=image/png:https://villagelaguna.org/wp-content/uploads/2023/06/VL-Logo-300w-grey-LAGUNA-93hx100wz.png
END:VEVENT
BEGIN:VEVENT
DTSTART;TZID=America/Los_Angeles:20240325T183000
DTEND;TZID=America/Los_Angeles:20240325T210000
DTSTAMP:20260421T012134
CREATED:20240317T232810Z
LAST-MODIFIED:20240317T232909Z
UID:3592-1711391400-1711400400@villagelaguna.org
SUMMARY:“SAWDUST AND SAND\,” DOUG MILLER DOCUMENTARY AT RIVIAN THEATER
DESCRIPTION:Monday\, March 25 7 p.m.\, doors open at 6:30 p.m. \nFree\, reservations required on line\, seating is limited. https://events.rivian.com/sawdustandsand Rivian South Coast Theater\, 162 South Coast Hwy.
URL:https://villagelaguna.org/event/sawdust-and-sand-doug-miller-documentary-at-rivian-theater/
END:VEVENT
BEGIN:VEVENT
DTSTART;TZID=America/Los_Angeles:20240504T090000
DTEND;TZID=America/Los_Angeles:20240504T220000
DTSTAMP:20260421T012134
CREATED:20240425T200719Z
LAST-MODIFIED:20240425T200922Z
UID:3702-1714813200-1714860000@villagelaguna.org
SUMMARY:Village Laguna Board Meeting – 9:00am Zoom
DESCRIPTION:Village Laguna Board Meeting – 9:00am Zoom
URL:https://villagelaguna.org/event/village-laguna-board-meeting-900am-zoom/
END:VEVENT
BEGIN:VEVENT
DTSTART;TZID=America/Los_Angeles:20240507T180000
DTEND;TZID=America/Los_Angeles:20240507T193000
DTSTAMP:20260421T012134
CREATED:20240425T201528Z
LAST-MODIFIED:20240425T201528Z
UID:3704-1715104800-1715110200@villagelaguna.org
SUMMARY:The Laguna Canyon Road: Protect & Connect
DESCRIPTION:The Laguna Canyon Road: Protect & Connect \nTUESDAY\, MAY 7TH  | 6P – 7:30P \nSUSI Q – COMMUNITY CENTER \n380 3RD ST.\nLAGUNA BEACH\, CA \n  \nHello and thank you for taking this survey! \nMORE INFO \nThe Laguna Canyon Road: Protect & Connect project aims to improve safety for all users\, enhance sustainability\, and manage congestion along one of the only direct routes to Laguna Beach – the Laguna Canyon Road (LCR) corridor (SR 133). The project is focused on addressing safety concerns\, plans to underground utilities\, and considering multi-modal options. This corridor provides residents\, businesses\, and visitors critical access to the city from Interstate 405 (I-405) and State Route 73 (SR 73) and serves as an emergency evacuation route. \nThe project is currently in the process of collecting community feedback. Community engagement is essential to better understand users of the corridor and their priorities. \nThis survey should take about 5-10 minutes to complete. \nYour responses are very important to us!
URL:https://villagelaguna.org/event/the-laguna-canyon-road-protect-connect/
LOCATION:380 3RD ST. LAGUNA BEACH\, CA\, 380 3RD ST.\, LAGUNA BEACH\, CA
END:VEVENT
BEGIN:VEVENT
DTSTART;TZID=America/Los_Angeles:20240514T170000
DTEND;TZID=America/Los_Angeles:20240514T220000
DTSTAMP:20260421T012134
CREATED:20240425T202313Z
LAST-MODIFIED:20240425T202516Z
UID:3708-1715706000-1715724000@villagelaguna.org
SUMMARY:City Council Meeting - Tuesday – May 14
DESCRIPTION:City Council Meeting – Tuesday – May 14
URL:https://villagelaguna.org/event/city-council-meeting-tuesday-may-14/
END:VEVENT
BEGIN:VEVENT
DTSTART;TZID=America/Los_Angeles:20240519T100000
DTEND;TZID=America/Los_Angeles:20240519T170000
DTSTAMP:20260421T012134
CREATED:20230728T172458Z
LAST-MODIFIED:20230728T172827Z
UID:3253-1716112800-1716138000@villagelaguna.org
SUMMARY:CHARM HOUSE TOUR - May 19 2024
DESCRIPTION:May 19 – 2024 | Charm House Tour
URL:https://villagelaguna.org/event/charm-house-tour-may-19-2024/
ATTACH;FMTTYPE=image/png:https://villagelaguna.org/wp-content/uploads/2023/02/VL-Logo-600w-z.png
END:VEVENT
BEGIN:VEVENT
DTSTART;TZID=America/Los_Angeles:20240528T170000
DTEND;TZID=America/Los_Angeles:20240528T220000
DTSTAMP:20260421T012134
CREATED:20240425T202926Z
LAST-MODIFIED:20240425T203053Z
UID:3714-1716915600-1716933600@villagelaguna.org
SUMMARY:City Council Meeting - Tuesday May 28\, 5:00PM
DESCRIPTION:City Council Meeting – Tuesday May 28\, 5:00PM
URL:https://villagelaguna.org/event/city-council-meeting-tuesday-may-28-500pm/
END:VEVENT
BEGIN:VEVENT
DTSTART;TZID=America/Los_Angeles:20240706T090000
DTEND;TZID=America/Los_Angeles:20240706T223000
DTSTAMP:20260421T012134
CREATED:20240703T164235Z
LAST-MODIFIED:20240703T164259Z
UID:4017-1720256400-1720305000@villagelaguna.org
SUMMARY:Village Laguna — board meeting
DESCRIPTION:Village Laguna board meeting will be this Saturday\, July 6\, 9:00am at the home of Johanna Felder
URL:https://villagelaguna.org/event/village-laguna-board-meeting-3/
END:VEVENT
BEGIN:VEVENT
DTSTART;TZID=America/Los_Angeles:20240723T170000
DTEND;TZID=America/Los_Angeles:20240723T230000
DTSTAMP:20260421T012134
CREATED:20240716T172058Z
LAST-MODIFIED:20240716T172115Z
UID:4034-1721754000-1721775600@villagelaguna.org
SUMMARY:City Council Meeting – Tuesday July 23\, 5:00PM
DESCRIPTION:City Council Meeting – Tuesday July 23\, 5:00PM
URL:https://villagelaguna.org/event/city-council-meeting-tuesday-july-23-500pm/
END:VEVENT
BEGIN:VEVENT
DTSTART;TZID=America/Los_Angeles:20240729T180000
DTEND;TZID=America/Los_Angeles:20240729T200000
DTSTAMP:20260421T012134
CREATED:20240716T172958Z
LAST-MODIFIED:20240716T173051Z
UID:4042-1722276000-1722283200@villagelaguna.org
SUMMARY:July General meeting Picnic
DESCRIPTION:July General meeting \nPicnic \nMonday\, July 29 \n6 p.m. \nAlta Laguna Park
URL:https://villagelaguna.org/event/july-general-meeting-picnic/
END:VEVENT
BEGIN:VEVENT
DTSTART;TZID=America/Los_Angeles:20240729T180000
DTEND;TZID=America/Los_Angeles:20240729T200000
DTSTAMP:20260421T012134
CREATED:20240726T041332Z
LAST-MODIFIED:20240726T041410Z
UID:4059-1722276000-1722283200@villagelaguna.org
SUMMARY:July 29 General Meeting Picnic
DESCRIPTION:July General meeting Picnic \nMonday\, July 29 6 p.m. \nAlta Laguna Park
URL:https://villagelaguna.org/event/july-29-general-meeting-picnic/
END:VEVENT
BEGIN:VEVENT
DTSTART;TZID=America/Los_Angeles:20240803T090000
DTEND;TZID=America/Los_Angeles:20240803T110000
DTSTAMP:20260421T012134
CREATED:20240716T172325Z
LAST-MODIFIED:20240716T172325Z
UID:4036-1722675600-1722682800@villagelaguna.org
SUMMARY:Village Laguna Board Meeting
DESCRIPTION:Village Laguna Board Meeting \nSaturday August 3 \n9 a.m.  \nBy Zoom
URL:https://villagelaguna.org/event/village-laguna-board-meeting-4/
END:VEVENT
BEGIN:VEVENT
DTSTART;TZID=America/Los_Angeles:20240815T183000
DTEND;TZID=America/Los_Angeles:20240815T210000
DTSTAMP:20260421T012134
CREATED:20240810T191645Z
LAST-MODIFIED:20240810T191719Z
UID:4099-1723746600-1723755600@villagelaguna.org
SUMMARY:Community Meeting - Zoom
DESCRIPTION:Aug. 15 – Community Meeting — Village Laguna\n\n\n\n \nCommunity Meeting — Zoom\nAugust 15 | 6:30 PM \n\nConnect on Zoom – Link
URL:https://villagelaguna.org/event/community-meeting-zoom/
END:VEVENT
BEGIN:VEVENT
DTSTART;TZID=America/Los_Angeles:20240827T180000
DTEND;TZID=America/Los_Angeles:20240827T210000
DTSTAMP:20260421T012134
CREATED:20240726T042051Z
LAST-MODIFIED:20240726T042051Z
UID:4063-1724781600-1724792400@villagelaguna.org
SUMMARY:Village Laguna City Council  Candidates Forum
DESCRIPTION:Village Laguna City Council \nCandidates Forum \nTuesday\, August 27\, 6 p.m.  \nCity Council Chambers
URL:https://villagelaguna.org/event/village-laguna-city-council-candidates-forum-2/
END:VEVENT
BEGIN:VEVENT
DTSTART;TZID=America/Los_Angeles:20240829T180000
DTEND;TZID=America/Los_Angeles:20240829T203000
DTSTAMP:20260421T012134
CREATED:20240726T042202Z
LAST-MODIFIED:20240726T042302Z
UID:4065-1724954400-1724963400@villagelaguna.org
SUMMARY:August General Meeting
DESCRIPTION:August General Meeting\nAugust 29\, 6 p.m. \nAt the home of Amy Jackson\n412 Jasmine\nEndorsement vote\nMembers only!\nDues must be paid\n30 days in advance in order to vote
URL:https://villagelaguna.org/event/4065/
END:VEVENT
BEGIN:VEVENT
DTSTART;TZID=America/Los_Angeles:20241202T180000
DTEND;TZID=America/Los_Angeles:20241202T200000
DTSTAMP:20260421T012134
CREATED:20241120T190655Z
LAST-MODIFIED:20241120T190748Z
UID:4278-1733162400-1733169600@villagelaguna.org
SUMMARY:Holiday Pot Luck Party December 2\, 6 PM at the United Methodist Church on Wesley Drive
DESCRIPTION:Village Laguna –\nHoliday pot luck party December 2\, 6 PM at the United Methodist Church on Wesley Drive
URL:https://villagelaguna.org/event/holiday-pot-luck-party-december-2-6-pm-at-the-united-methodist-church-on-wesley-drive/
END:VEVENT
BEGIN:VEVENT
DTSTART;TZID=America/Los_Angeles:20241207T090000
DTEND;TZID=America/Los_Angeles:20241207T103000
DTSTAMP:20260421T012134
CREATED:20241120T191607Z
LAST-MODIFIED:20241120T191607Z
UID:4284-1733562000-1733567400@villagelaguna.org
SUMMARY:VL BOARD MEETING - December 7\, 9 AM is the board meeting on zoom
DESCRIPTION:BOARD MEETING –\nDecember 7\, 9 AM is the board meeting on zoom
URL:https://villagelaguna.org/event/vl-board-meeting-december-7-9-am-is-the-board-meeting-on-zoom/
END:VEVENT
BEGIN:VEVENT
DTSTART;TZID=America/Los_Angeles:20250111T090000
DTEND;TZID=America/Los_Angeles:20250111T230000
DTSTAMP:20260421T012134
CREATED:20250105T002551Z
LAST-MODIFIED:20250105T002608Z
UID:4375-1736586000-1736636400@villagelaguna.org
SUMMARY:BOARD MEETING – January 11\, 9 AM
DESCRIPTION:BOARD MEETING –\nJanuary 11\, 9am at the home of Darrylin Girvin
URL:https://villagelaguna.org/event/board-meeting-january-11-9-am/
END:VEVENT
BEGIN:VEVENT
DTSTART;TZID=America/Los_Angeles:20250127T170000
DTEND;TZID=America/Los_Angeles:20250127T190000
DTSTAMP:20260421T012134
CREATED:20250105T002919Z
LAST-MODIFIED:20250112T205503Z
UID:4377-1737997200-1738004400@villagelaguna.org
SUMMARY:GENERAL MEETING on Monday\, January 27\, 5 PM
DESCRIPTION:GENERAL MEETING on Monday\, January 27\, 5 PM — at the Susi Q.
URL:https://villagelaguna.org/event/general-meeting-on-monday-january-28-5-pm/
END:VEVENT
BEGIN:VEVENT
DTSTART;TZID=America/Los_Angeles:20250226T190000
DTEND;TZID=America/Los_Angeles:20250226T203000
DTSTAMP:20260421T012134
CREATED:20250218T230659Z
LAST-MODIFIED:20250218T230659Z
UID:4441-1740596400-1740601800@villagelaguna.org
SUMMARY:Village Laguna’s February 26 General meeting
DESCRIPTION:Village Laguna’s February General meeting will be a discussion of the controversial swimming pool expansion at the high school and the possibility of it being resolved. The community has been conflicted about replacement of the existing pool and the extensive construction for new facilities the District proposed as part of its master plan. Our guest speakers will be newly elected school board members Howard Hill and Sheri Morgan\, as well as Steve McIntosh of Sensible Laguna. Join us Wednesday\, February 26 at 7 PM on Zoom. All are welcome. \nhttps://us02web.zoom.us/j/8652668556 4?pwd=zI7vPPXMucgjVZ9JCsf94s6c vtOPxF.1 \nMeeting ID: 865 2668 5564 \nPasscode: 800920
URL:https://villagelaguna.org/event/village-lagunas-february-26-general-meeting/
END:VEVENT
END:VCALENDAR