BEGIN:VCALENDAR
VERSION:2.0
PRODID:-//Village Laguna - ECPv6.15.20//NONSGML v1.0//EN
CALSCALE:GREGORIAN
METHOD:PUBLISH
X-WR-CALNAME:Village Laguna
X-ORIGINAL-URL:https://villagelaguna.org
X-WR-CALDESC:Events for Village Laguna
REFRESH-INTERVAL;VALUE=DURATION:PT1H
X-Robots-Tag:noindex
X-PUBLISHED-TTL:PT1H
BEGIN:VTIMEZONE
TZID:America/Los_Angeles
BEGIN:DAYLIGHT
TZOFFSETFROM:-0800
TZOFFSETTO:-0700
TZNAME:PDT
DTSTART:20220313T100000
END:DAYLIGHT
BEGIN:STANDARD
TZOFFSETFROM:-0700
TZOFFSETTO:-0800
TZNAME:PST
DTSTART:20221106T090000
END:STANDARD
BEGIN:DAYLIGHT
TZOFFSETFROM:-0800
TZOFFSETTO:-0700
TZNAME:PDT
DTSTART:20230312T100000
END:DAYLIGHT
BEGIN:STANDARD
TZOFFSETFROM:-0700
TZOFFSETTO:-0800
TZNAME:PST
DTSTART:20231105T090000
END:STANDARD
BEGIN:DAYLIGHT
TZOFFSETFROM:-0800
TZOFFSETTO:-0700
TZNAME:PDT
DTSTART:20240310T100000
END:DAYLIGHT
BEGIN:STANDARD
TZOFFSETFROM:-0700
TZOFFSETTO:-0800
TZNAME:PST
DTSTART:20241103T090000
END:STANDARD
END:VTIMEZONE
BEGIN:VTIMEZONE
TZID:UTC
BEGIN:STANDARD
TZOFFSETFROM:+0000
TZOFFSETTO:+0000
TZNAME:UTC
DTSTART:20220101T000000
END:STANDARD
END:VTIMEZONE
BEGIN:VEVENT
DTSTART;TZID=America/Los_Angeles:20231104T090000
DTEND;TZID=America/Los_Angeles:20231104T100000
DTSTAMP:20260421T041518
CREATED:20230921T154305Z
LAST-MODIFIED:20231016T204550Z
UID:3334-1699088400-1699092000@villagelaguna.org
SUMMARY:Village Laguna Board Meeting
DESCRIPTION:Village Laguna Board Meeting\nNovember 4 @ 9 AM on zoom
URL:https://villagelaguna.org/event/village-laguna-general-board-meeting-3/
ATTACH;FMTTYPE=image/png:https://villagelaguna.org/wp-content/uploads/2023/06/VL-Logo-300w-grey-LAGUNA-93hx100wz.png
END:VEVENT
BEGIN:VEVENT
DTSTART;TZID=UTC:20231024T173000
DTEND;TZID=UTC:20231024T220000
DTSTAMP:20260421T041518
CREATED:20230525T074217Z
LAST-MODIFIED:20230525T074310Z
UID:2246-1698168600-1698184800@villagelaguna.org
SUMMARY:City Council Meeting
DESCRIPTION:
URL:https://villagelaguna.org/event/city-council-meeting-9/
LOCATION:City Hall\, 505 Forest Ave\, Laguna Beach\, CA 9265\, Laguna Beach\, CA\, 92651\, United States
CATEGORIES:Council Meetings
ATTACH;FMTTYPE=image/jpeg:https://villagelaguna.org/wp-content/uploads/2023/05/IMG_4125-scaled.jpg
END:VEVENT
BEGIN:VEVENT
DTSTART;TZID=America/Los_Angeles:20231023T090000
DTEND;TZID=America/Los_Angeles:20231023T100000
DTSTAMP:20260421T041518
CREATED:20230921T154036Z
LAST-MODIFIED:20231018T172453Z
UID:3332-1698051600-1698055200@villagelaguna.org
SUMMARY:Village Laguna General Meeting
DESCRIPTION:Topic: Village Laguna General Meeting\nTime: Oct 23\, 2023 07:00 PM Pacific Time (US and Canada) \nSean Joyce\, interim city manager\, will be our guest speaker. \nJoin Zoom Meeting\nhttps://us02web.zoom.us/j/81924989195?pwd=OXVXekVEWVZHV09iTHZib25ZUHo1QT09 \nMeeting ID: 819 2498 9195\nPasscode: 088045\n—\nOne tap mobile\n+16699006833\,\,81924989195#\,\,\,\,*088045# US (San Jose)\n+16694449171\,\,81924989195#\,\,\,\,*088045# US
URL:https://villagelaguna.org/event/village-laguna-general-board-meeting-2/
END:VEVENT
BEGIN:VEVENT
DTSTART;TZID=America/Los_Angeles:20231010T170000
DTEND;TZID=America/Los_Angeles:20231010T220000
DTSTAMP:20260421T041518
CREATED:20230921T153815Z
LAST-MODIFIED:20230921T153838Z
UID:3328-1696957200-1696975200@villagelaguna.org
SUMMARY:City Council Meeting
DESCRIPTION:Tuesday October 10 – City Council Meeting
URL:https://villagelaguna.org/event/city-council-meeting-14/
END:VEVENT
BEGIN:VEVENT
DTSTART;TZID=UTC:20231010T170000
DTEND;TZID=UTC:20231010T220000
DTSTAMP:20260421T041518
CREATED:20230525T074022Z
LAST-MODIFIED:20230525T074123Z
UID:2244-1696957200-1696975200@villagelaguna.org
SUMMARY:City Council Meeting
DESCRIPTION:
URL:https://villagelaguna.org/event/city-council-meeting-8/
LOCATION:City Hall\, 505 Forest Ave\, Laguna Beach\, CA 9265\, Laguna Beach\, CA\, 92651\, United States
CATEGORIES:Council Meetings
ATTACH;FMTTYPE=image/jpeg:https://villagelaguna.org/wp-content/uploads/2023/05/IMG_4125-scaled.jpg
END:VEVENT
BEGIN:VEVENT
DTSTART;TZID=America/Los_Angeles:20231007T090000
DTEND;TZID=America/Los_Angeles:20231007T100000
DTSTAMP:20260421T041518
CREATED:20230921T153608Z
LAST-MODIFIED:20230921T153608Z
UID:3326-1696669200-1696672800@villagelaguna.org
SUMMARY:Village Laguna General Board Meeting
DESCRIPTION:Village Laguna General Board Meeting \n\nOctober 7 | 9 AM on zoom
URL:https://villagelaguna.org/event/village-laguna-general-board-meeting/
END:VEVENT
BEGIN:VEVENT
DTSTART;TZID=UTC:20230926T170000
DTEND;TZID=UTC:20230926T220000
DTSTAMP:20260421T041518
CREATED:20230525T075737Z
LAST-MODIFIED:20230525T075845Z
UID:2248-1695747600-1695765600@villagelaguna.org
SUMMARY:City Council Meeting
DESCRIPTION:
URL:https://villagelaguna.org/event/city-council-meeting-10/
LOCATION:City Hall\, 505 Forest Ave\, Laguna Beach\, CA 9265\, Laguna Beach\, CA\, 92651\, United States
CATEGORIES:Council Meetings
ATTACH;FMTTYPE=image/jpeg:https://villagelaguna.org/wp-content/uploads/2023/05/IMG_4125-scaled.jpg
END:VEVENT
BEGIN:VEVENT
DTSTART;TZID=America/Los_Angeles:20230925T190000
DTEND;TZID=America/Los_Angeles:20230925T200000
DTSTAMP:20260421T041518
CREATED:20230920T202126Z
LAST-MODIFIED:20230920T202126Z
UID:3313-1695668400-1695672000@villagelaguna.org
SUMMARY:General Meeting
DESCRIPTION:Topic: Village Laguna General Meeting\nTime: Sep 25\, 2023 07:00 PM Pacific Time (US and Canada)\nJoin Zoom Meeting\nhttps://us02web.zoom.us/j/82920154214?pwd=MTJ1bmNRRU8zb1M5Q3lrakFtMmxRUT09 \nMeeting ID: 829 2015 4214\nPasscode: 383755
URL:https://villagelaguna.org/event/general-meeting/
END:VEVENT
BEGIN:VEVENT
DTSTART;TZID=America/Los_Angeles:20230828T180000
DTEND;TZID=America/Los_Angeles:20230828T200000
DTSTAMP:20260421T041518
CREATED:20230728T165446Z
LAST-MODIFIED:20230728T172922Z
UID:3245-1693245600-1693252800@villagelaguna.org
SUMMARY:Village Laguna Picnic Monday Aug. 28 2023
DESCRIPTION:Alta Laguna Park 6 PM on Monday August 28.
URL:https://villagelaguna.org/event/village-laguna-picnic-aug-28-2023/
LOCATION:Alta Laguna\, 3299 Alta Laguna Blvd Laguna Beach\, CA 92651\, Laguna Beach\, CA\, 92651\, United States
ATTACH;FMTTYPE=image/png:https://villagelaguna.org/wp-content/uploads/2023/02/VL-Logo-800w-z.png
END:VEVENT
BEGIN:VEVENT
DTSTART;TZID=UTC:20230822T170000
DTEND;TZID=UTC:20230822T220000
DTSTAMP:20260421T041518
CREATED:20230525T073723Z
LAST-MODIFIED:20230525T080400Z
UID:2240-1692723600-1692741600@villagelaguna.org
SUMMARY:City Council Meeting
DESCRIPTION:
URL:https://villagelaguna.org/event/city-council-meeting-6/
LOCATION:City Hall\, 505 Forest Ave\, Laguna Beach\, CA 9265\, Laguna Beach\, CA\, 92651\, United States
CATEGORIES:Council Meetings
ATTACH;FMTTYPE=image/jpeg:https://villagelaguna.org/wp-content/uploads/2023/05/IMG_4125-scaled.jpg
END:VEVENT
BEGIN:VEVENT
DTSTART;TZID=UTC:20230808T170000
DTEND;TZID=UTC:20230808T220000
DTSTAMP:20260421T041518
CREATED:20230525T073451Z
LAST-MODIFIED:20230525T074649Z
UID:2237-1691514000-1691532000@villagelaguna.org
SUMMARY:City Council Meeting
DESCRIPTION:
URL:https://villagelaguna.org/event/city-council-meeting-5/
LOCATION:City Hall\, 505 Forest Ave\, Laguna Beach\, CA 9265\, Laguna Beach\, CA\, 92651\, United States
CATEGORIES:Council Meetings
ATTACH;FMTTYPE=image/jpeg:https://villagelaguna.org/wp-content/uploads/2023/05/IMG_4125-scaled.jpg
END:VEVENT
BEGIN:VEVENT
DTSTART;TZID=America/Los_Angeles:20230805T090000
DTEND;TZID=America/Los_Angeles:20230805T100000
DTSTAMP:20260421T041518
CREATED:20230728T164716Z
LAST-MODIFIED:20230728T171300Z
UID:3243-1691226000-1691229600@villagelaguna.org
SUMMARY:Board Meeting - Village Laguna
DESCRIPTION:Aug 5 Board Meeting\, 9:00 am on zoom
URL:https://villagelaguna.org/event/board-meeting-aug-5-900-am-on-zoom/
LOCATION:ZOOM
ATTACH;FMTTYPE=image/png:https://villagelaguna.org/wp-content/uploads/2023/02/VL-Logo-600w-z.png
END:VEVENT
BEGIN:VEVENT
DTSTART;TZID=UTC:20230727T173000
DTEND;TZID=UTC:20230727T220000
DTSTAMP:20260421T041518
CREATED:20230525T035136Z
LAST-MODIFIED:20230525T035239Z
UID:2205-1690479000-1690495200@villagelaguna.org
SUMMARY:City Council Meeting
DESCRIPTION:
URL:https://villagelaguna.org/event/city-council-meeting-4/
LOCATION:City Hall\, 505 Forest Ave\, Laguna Beach\, CA 9265\, Laguna Beach\, CA\, 92651\, United States
CATEGORIES:Council Meetings
ATTACH;FMTTYPE=image/jpeg:https://villagelaguna.org/wp-content/uploads/2023/05/IMG_4129-scaled.jpg
END:VEVENT
BEGIN:VEVENT
DTSTART;TZID=UTC:20230711T170000
DTEND;TZID=UTC:20230711T220000
DTSTAMP:20260421T041518
CREATED:20230525T034857Z
LAST-MODIFIED:20230525T074824Z
UID:2203-1689094800-1689112800@villagelaguna.org
SUMMARY:City Council Meeting
DESCRIPTION:
URL:https://villagelaguna.org/event/city-council-meeting-3/
LOCATION:City Hall\, 505 Forest Ave\, Laguna Beach\, CA 9265\, Laguna Beach\, CA\, 92651\, United States
CATEGORIES:Council Meetings
ATTACH;FMTTYPE=image/jpeg:https://villagelaguna.org/wp-content/uploads/2023/05/IMG_4129-scaled.jpg
END:VEVENT
BEGIN:VEVENT
DTSTART;TZID=UTC:20230701T090000
DTEND;TZID=UTC:20230701T103000
DTSTAMP:20260421T041518
CREATED:20230621T000059Z
LAST-MODIFIED:20230621T000059Z
UID:2428-1688202000-1688207400@villagelaguna.org
SUMMARY:Board Meeting
DESCRIPTION:July 1 Board Meeting\, 9:00 am on zoom
URL:https://villagelaguna.org/event/board-meeting/
LOCATION:ZOOM
ATTACH;FMTTYPE=image/png:https://villagelaguna.org/wp-content/uploads/2023/02/VL-Logo-800w-z.png
END:VEVENT
BEGIN:VEVENT
DTSTART;TZID=UTC:20230627T170000
DTEND;TZID=UTC:20230627T220000
DTSTAMP:20260421T041518
CREATED:20230525T031438Z
LAST-MODIFIED:20230525T074945Z
UID:2198-1687885200-1687903200@villagelaguna.org
SUMMARY:City Council Meeting
DESCRIPTION:
URL:https://villagelaguna.org/event/city-council-meeting-2/
LOCATION:City Hall\, 505 Forest Ave\, Laguna Beach\, CA 9265\, Laguna Beach\, CA\, 92651\, United States
CATEGORIES:Council Meetings
ATTACH;FMTTYPE=image/jpeg:https://villagelaguna.org/wp-content/uploads/2023/05/IMG_4129-scaled.jpg
END:VEVENT
BEGIN:VEVENT
DTSTART;TZID=UTC:20230626T190000
DTEND;TZID=UTC:20230626T203000
DTSTAMP:20260421T041518
CREATED:20230620T235110Z
LAST-MODIFIED:20230620T235841Z
UID:2425-1687806000-1687811400@villagelaguna.org
SUMMARY:General Meeting
DESCRIPTION:General Meeting\, June 26\, 7:00pm on zoom \nMeeting info to post on website \nThe founders of Sensible Laguna\, Steve McIntosh\, Gary Kasik and Steve Brown will give a presentation of possible expansion plans for the high school and district offices. \nhttps://us02web.zoom.us/j/83985860813?pwd=eXUxZU1lMDdMZDYzTGZkTTFZNDJVUT09 \n::: \nMerrill Anderson is inviting you to a scheduled Zoom meeting. \nMeeting info to post on website \nTopic: Village Laguna Meeting\nTime: Jun 26\, 2023 07:00 PM Pacific Time (US and Canada) \nJoin Zoom Meeting\nhttps://us02web.zoom.us/j/83985860813?pwd=eXUxZU1lMDdMZDYzTGZkTTFZNDJVUT09 \nMeeting ID: 839 8586 0813\nPasscode: 601102 \n— \nOne tap mobile\n+16699006833\,\,83985860813#\,\,\,\,*601102# US (San Jose)\n+16694449171\,\,83985860813#\,\,\,\,*601102# US
URL:https://villagelaguna.org/event/general-meeting-june-26/
LOCATION:ZOOM
ATTACH;FMTTYPE=image/png:https://villagelaguna.org/wp-content/uploads/2023/02/VL-Logo-800w-z.png
END:VEVENT
BEGIN:VEVENT
DTSTART;TZID=UTC:20230613T170000
DTEND;TZID=UTC:20230613T220000
DTSTAMP:20260421T041518
CREATED:20230525T023120Z
LAST-MODIFIED:20230620T234607Z
UID:2195-1686675600-1686693600@villagelaguna.org
SUMMARY:City Council Meeting
DESCRIPTION:
URL:https://villagelaguna.org/event/city-council-meeting/
LOCATION:City Hall\, 505 Forest Ave\, Laguna Beach\, CA 9265\, Laguna Beach\, CA\, 92651\, United States
CATEGORIES:Council Meetings
ATTACH;FMTTYPE=image/jpeg:https://villagelaguna.org/wp-content/uploads/2023/05/IMG_4129-scaled.jpg
END:VEVENT
BEGIN:VEVENT
DTSTART;TZID=UTC:20230516T170000
DTEND;TZID=UTC:20230516T220000
DTSTAMP:20260421T041518
CREATED:20230525T073920Z
LAST-MODIFIED:20230525T075314Z
UID:2242-1684256400-1684274400@villagelaguna.org
SUMMARY:City Council Meeting
DESCRIPTION:
URL:https://villagelaguna.org/event/city-council-meeting-7/
LOCATION:City Hall\, 505 Forest Ave\, Laguna Beach\, CA 9265\, Laguna Beach\, CA\, 92651\, United States
CATEGORIES:Council Meetings
ATTACH;FMTTYPE=image/jpeg:https://villagelaguna.org/wp-content/uploads/2023/05/IMG_4125-scaled.jpg
END:VEVENT
END:VCALENDAR