BEGIN:VCALENDAR
VERSION:2.0
PRODID:-//Village Laguna - ECPv6.15.20//NONSGML v1.0//EN
CALSCALE:GREGORIAN
METHOD:PUBLISH
X-WR-CALNAME:Village Laguna
X-ORIGINAL-URL:https://villagelaguna.org
X-WR-CALDESC:Events for Village Laguna
REFRESH-INTERVAL;VALUE=DURATION:PT1H
X-Robots-Tag:noindex
X-PUBLISHED-TTL:PT1H
BEGIN:VTIMEZONE
TZID:UTC
BEGIN:STANDARD
TZOFFSETFROM:+0000
TZOFFSETTO:+0000
TZNAME:UTC
DTSTART:20220101T000000
END:STANDARD
END:VTIMEZONE
BEGIN:VEVENT
DTSTART;TZID=UTC:20230613T170000
DTEND;TZID=UTC:20230613T220000
DTSTAMP:20260422T031606
CREATED:20230525T023120Z
LAST-MODIFIED:20230620T234607Z
UID:2195-1686675600-1686693600@villagelaguna.org
SUMMARY:City Council Meeting
DESCRIPTION:
URL:https://villagelaguna.org/event/city-council-meeting/
LOCATION:City Hall\, 505 Forest Ave\, Laguna Beach\, CA 9265\, Laguna Beach\, CA\, 92651\, United States
CATEGORIES:Council Meetings
ATTACH;FMTTYPE=image/jpeg:https://villagelaguna.org/wp-content/uploads/2023/05/IMG_4129-scaled.jpg
END:VEVENT
BEGIN:VEVENT
DTSTART;TZID=UTC:20230516T170000
DTEND;TZID=UTC:20230516T220000
DTSTAMP:20260422T031606
CREATED:20230525T073920Z
LAST-MODIFIED:20230525T075314Z
UID:2242-1684256400-1684274400@villagelaguna.org
SUMMARY:City Council Meeting
DESCRIPTION:
URL:https://villagelaguna.org/event/city-council-meeting-7/
LOCATION:City Hall\, 505 Forest Ave\, Laguna Beach\, CA 9265\, Laguna Beach\, CA\, 92651\, United States
CATEGORIES:Council Meetings
ATTACH;FMTTYPE=image/jpeg:https://villagelaguna.org/wp-content/uploads/2023/05/IMG_4125-scaled.jpg
END:VEVENT
END:VCALENDAR