BEGIN:VCALENDAR
VERSION:2.0
PRODID:-//Village Laguna - ECPv6.15.20//NONSGML v1.0//EN
CALSCALE:GREGORIAN
METHOD:PUBLISH
X-ORIGINAL-URL:https://villagelaguna.org
X-WR-CALDESC:Events for Village Laguna
REFRESH-INTERVAL;VALUE=DURATION:PT1H
X-Robots-Tag:noindex
X-PUBLISHED-TTL:PT1H
BEGIN:VTIMEZONE
TZID:America/Los_Angeles
BEGIN:DAYLIGHT
TZOFFSETFROM:-0800
TZOFFSETTO:-0700
TZNAME:PDT
DTSTART:20230312T100000
END:DAYLIGHT
BEGIN:STANDARD
TZOFFSETFROM:-0700
TZOFFSETTO:-0800
TZNAME:PST
DTSTART:20231105T090000
END:STANDARD
BEGIN:DAYLIGHT
TZOFFSETFROM:-0800
TZOFFSETTO:-0700
TZNAME:PDT
DTSTART:20240310T100000
END:DAYLIGHT
BEGIN:STANDARD
TZOFFSETFROM:-0700
TZOFFSETTO:-0800
TZNAME:PST
DTSTART:20241103T090000
END:STANDARD
BEGIN:DAYLIGHT
TZOFFSETFROM:-0800
TZOFFSETTO:-0700
TZNAME:PDT
DTSTART:20250309T100000
END:DAYLIGHT
BEGIN:STANDARD
TZOFFSETFROM:-0700
TZOFFSETTO:-0800
TZNAME:PST
DTSTART:20251102T090000
END:STANDARD
BEGIN:DAYLIGHT
TZOFFSETFROM:-0800
TZOFFSETTO:-0700
TZNAME:PDT
DTSTART:20260308T100000
END:DAYLIGHT
BEGIN:STANDARD
TZOFFSETFROM:-0700
TZOFFSETTO:-0800
TZNAME:PST
DTSTART:20261101T090000
END:STANDARD
BEGIN:DAYLIGHT
TZOFFSETFROM:-0800
TZOFFSETTO:-0700
TZNAME:PDT
DTSTART:20270314T100000
END:DAYLIGHT
BEGIN:STANDARD
TZOFFSETFROM:-0700
TZOFFSETTO:-0800
TZNAME:PST
DTSTART:20271107T090000
END:STANDARD
END:VTIMEZONE
BEGIN:VEVENT
DTSTART;TZID=America/Los_Angeles:20240829T180000
DTEND;TZID=America/Los_Angeles:20240829T203000
DTSTAMP:20260421T082142
CREATED:20240726T042202Z
LAST-MODIFIED:20240726T042302Z
UID:4065-1724954400-1724963400@villagelaguna.org
SUMMARY:August General Meeting
DESCRIPTION:August General Meeting\nAugust 29\, 6 p.m. \nAt the home of Amy Jackson\n412 Jasmine\nEndorsement vote\nMembers only!\nDues must be paid\n30 days in advance in order to vote
URL:https://villagelaguna.org/event/4065/
END:VEVENT
BEGIN:VEVENT
DTSTART;TZID=America/Los_Angeles:20241202T180000
DTEND;TZID=America/Los_Angeles:20241202T200000
DTSTAMP:20260421T082142
CREATED:20241120T190655Z
LAST-MODIFIED:20241120T190748Z
UID:4278-1733162400-1733169600@villagelaguna.org
SUMMARY:Holiday Pot Luck Party December 2\, 6 PM at the United Methodist Church on Wesley Drive
DESCRIPTION:Village Laguna –\nHoliday pot luck party December 2\, 6 PM at the United Methodist Church on Wesley Drive
URL:https://villagelaguna.org/event/holiday-pot-luck-party-december-2-6-pm-at-the-united-methodist-church-on-wesley-drive/
END:VEVENT
BEGIN:VEVENT
DTSTART;TZID=America/Los_Angeles:20241207T090000
DTEND;TZID=America/Los_Angeles:20241207T103000
DTSTAMP:20260421T082142
CREATED:20241120T191607Z
LAST-MODIFIED:20241120T191607Z
UID:4284-1733562000-1733567400@villagelaguna.org
SUMMARY:VL BOARD MEETING - December 7\, 9 AM is the board meeting on zoom
DESCRIPTION:BOARD MEETING –\nDecember 7\, 9 AM is the board meeting on zoom
URL:https://villagelaguna.org/event/vl-board-meeting-december-7-9-am-is-the-board-meeting-on-zoom/
END:VEVENT
BEGIN:VEVENT
DTSTART;TZID=America/Los_Angeles:20250111T090000
DTEND;TZID=America/Los_Angeles:20250111T230000
DTSTAMP:20260421T082142
CREATED:20250105T002551Z
LAST-MODIFIED:20250105T002608Z
UID:4375-1736586000-1736636400@villagelaguna.org
SUMMARY:BOARD MEETING – January 11\, 9 AM
DESCRIPTION:BOARD MEETING –\nJanuary 11\, 9am at the home of Darrylin Girvin
URL:https://villagelaguna.org/event/board-meeting-january-11-9-am/
END:VEVENT
BEGIN:VEVENT
DTSTART;TZID=America/Los_Angeles:20250127T170000
DTEND;TZID=America/Los_Angeles:20250127T190000
DTSTAMP:20260421T082142
CREATED:20250105T002919Z
LAST-MODIFIED:20250112T205503Z
UID:4377-1737997200-1738004400@villagelaguna.org
SUMMARY:GENERAL MEETING on Monday\, January 27\, 5 PM
DESCRIPTION:GENERAL MEETING on Monday\, January 27\, 5 PM — at the Susi Q.
URL:https://villagelaguna.org/event/general-meeting-on-monday-january-28-5-pm/
END:VEVENT
BEGIN:VEVENT
DTSTART;TZID=America/Los_Angeles:20250226T190000
DTEND;TZID=America/Los_Angeles:20250226T203000
DTSTAMP:20260421T082142
CREATED:20250218T230659Z
LAST-MODIFIED:20250218T230659Z
UID:4441-1740596400-1740601800@villagelaguna.org
SUMMARY:Village Laguna’s February 26 General meeting
DESCRIPTION:Village Laguna’s February General meeting will be a discussion of the controversial swimming pool expansion at the high school and the possibility of it being resolved. The community has been conflicted about replacement of the existing pool and the extensive construction for new facilities the District proposed as part of its master plan. Our guest speakers will be newly elected school board members Howard Hill and Sheri Morgan\, as well as Steve McIntosh of Sensible Laguna. Join us Wednesday\, February 26 at 7 PM on Zoom. All are welcome. \nhttps://us02web.zoom.us/j/8652668556 4?pwd=zI7vPPXMucgjVZ9JCsf94s6c vtOPxF.1 \nMeeting ID: 865 2668 5564 \nPasscode: 800920
URL:https://villagelaguna.org/event/village-lagunas-february-26-general-meeting/
END:VEVENT
BEGIN:VEVENT
DTSTART;TZID=America/Los_Angeles:20250301T090000
DTEND;TZID=America/Los_Angeles:20250301T113000
DTSTAMP:20260421T082142
CREATED:20250217T215355Z
LAST-MODIFIED:20250217T215355Z
UID:4435-1740819600-1740828600@villagelaguna.org
SUMMARY:VL BOARD MEETING
DESCRIPTION:Board Meeting at the home of Ann Christoph\, Saturday March 1\, 9-11:30am
URL:https://villagelaguna.org/event/vl-board-meeting/
END:VEVENT
BEGIN:VEVENT
DTSTART;TZID=America/Los_Angeles:20250331T183000
DTEND;TZID=America/Los_Angeles:20250331T210000
DTSTAMP:20260421T082142
CREATED:20250217T215558Z
LAST-MODIFIED:20250306T232238Z
UID:4437-1743445800-1743454800@villagelaguna.org
SUMMARY:VILLAGE LAGUNA - Rivian Theatre
DESCRIPTION:Monday\, March 31\, 6:30 -9 PM at the Rivian Theater – PCH \nJoin us for Art and Activism Preserve a Coastal Landscape by Village Laguna and supporting organizations. \nLaguna Beach is the only entire city in the United States to have been recognized as a Historic American Landscape. Key to that honor is the preservation of the 22\,000 acre Greenbelt that surrounds it. The dramatic and beautiful landscape inspired early artists who saw Laguna Beach as a cultural beacon. The artistic tradition inspired the creativity and activism that resulted in the village atmosphere and preserved our natural hillside and coastal landscapes. \nLaguna Beach and the Greenbelt was accepted for the Historic American Landscape program by the National Park Service in 2017 and that documentation is now held in the Library of Congress. That submittal serves as the basis for the book “Laguna Beach and the Greenbelt Celebrating a Treasured Historic American Landscape” telling Laguna’s story. The second edition of the book will be released that evening. \nFour of the authors of that book will present at the event: Tom Lamb (Historic American \nLandscape Program)\, Ann Christoph (landscape and history)\, Eric Jessen (art and early artists)\, Bob Borthwick (preservation of Aliso Creek and the Greenbelt). \nDoors 6:30pm \nPresentation 7:00pm \nArt and Activism Preserve a Coastal Landscape
URL:https://villagelaguna.org/event/village-laguna-rivian-theatre/
END:VEVENT
BEGIN:VEVENT
DTSTART;TZID=America/Los_Angeles:20250818T190000
DTEND;TZID=America/Los_Angeles:20250818T203000
DTSTAMP:20260421T082142
CREATED:20250805T165047Z
LAST-MODIFIED:20250805T165047Z
UID:4777-1755543600-1755549000@villagelaguna.org
SUMMARY:Village Laguna General Meeting Aug 18
DESCRIPTION:Topic: Village Laguna General Meeting\nTime: Aug 18\, 2025 07:00 PM Pacific Time (US and Canada)\nJoin Zoom Meeting\nhttps://us02web.zoom.us/j/89020999431?pwd=DKlJQB11c2DmjIWljGIbcKweAK3U3i.1 \nMeeting ID: 890 2099 9431\nPasscode: 616343 \n— \nOne tap mobile\n+16699006833\,\,89020999431#\,\,\,\,*616343# US (San Jose)\n+16694449171\,\,89020999431#\,\,\,\,*616343# US \n— \nDial by your location\n• +1 669 900 6833 US (San Jose)\n• +1 669 444 9171 US\n• +1 253 215 8782 US (Tacoma)\n• +1 346 248 7799 US (Houston)\n• +1 719 359 4580 US\n• +1 253 205 0468 US\n• +1 929 205 6099 US (New York)\n• +1 301 715 8592 US (Washington DC)\n• +1 305 224 1968 US\n• +1 309 205 3325 US\n• +1 312 626 6799 US (Chicago)\n• +1 360 209 5623 US\n• +1 386 347 5053 US\n• +1 507 473 4847 US\n• +1 564 217 2000 US\n• +1 646 931 3860 US\n• +1 689 278 1000 US \nMeeting ID: 890 2099 9431\nPasscode: 616343 \nFind your local number: https://us02web.zoom.us/u/kcA8Lw7aSi
URL:https://villagelaguna.org/event/village-laguna-general-meeting-aug-18/
END:VEVENT
BEGIN:VEVENT
DTSTART;TZID=America/Los_Angeles:20251027T190000
DTEND;TZID=America/Los_Angeles:20251027T210000
DTSTAMP:20260421T082142
CREATED:20251023T213855Z
LAST-MODIFIED:20251023T214629Z
UID:4952-1761591600-1761598800@villagelaguna.org
SUMMARY:Historic Preservation Important?
DESCRIPTION:Attend Village Laguna Zoom meeting October 27\, 7 p.m. See link below\nEsther and Frances Egan with their trusty steed Gill\, near their family homestead circa 1920. \n \nThe Egan homestead is the current focus of our historic preservation efforts\, with an appeal of the Design Review Board’s approval of demolition of this last remaining homesteader house.   Filed by neighbors\, Village Laguna and South Laguna Civic Association\, the appeal emphasizes the opinions of two historical consultants that the property is eligible for the California Register of Historical Resources\, and the National Register of Historic Places\, because of its local role in the implementation of the Homestead Act\, signed by Abraham Lincoln in 1862.  Competing historical reports\, one funded by the developer\, dispute those findings. \nView meeting insights with Zoom AI Companion\nhttps://us02web.zoom.us/launch/edl?muid=992164fe-4ddc-4ae4-8e4c-a157d23d987d \nMeeting ID: 824 9417 6305\nPasscode: 071791\n—\nOne tap mobile\n+16699006833\,\,82494176305#\,\,\,\,*071791# US (San Jose)\n+16694449171\,\,82494176305#\,\,\,\,*071791# US \nJoin instructions\nhttps://us02web.zoom.us/meetings/82494176305/invitations?signature=TYLQ6vU2FTteHp7vXe3aHDv4olyqnIFiflYYftJIkOA \nThe meeting will feature the story of the Egan family as they worked to establish their homestead claim (1909) and their part in the growing community as it turned from farms to town.  We will also include a progress report on our historic preservation efforts. \nTopic: Village Laguna General Meeting\nTime: Oct 27\, 2025 07:00 PM Pacific Time (US and Canada)\nJoin Zoom Meeting\nhttps://us02web.zoom.us/j/82494176305?pwd=VWeZIP6w0qAreke5n9UtWOmw0yA60w.1
URL:https://villagelaguna.org/event/historic-preservation-important/
CATEGORIES:Special Event
END:VEVENT
BEGIN:VEVENT
DTSTART;TZID=America/Los_Angeles:20251101T090000
DTEND;TZID=America/Los_Angeles:20251101T100000
DTSTAMP:20260421T082142
CREATED:20251103T201757Z
LAST-MODIFIED:20251103T201913Z
UID:4988-1761987600-1761991200@villagelaguna.org
SUMMARY:Village Laguna General Meeting Nov 1  9:00 am
DESCRIPTION:Village Laguna General Meeting\nNov. 1 9:00 am
URL:https://villagelaguna.org/event/village-laguna-general-meeting-nov-1-900-am-felders/
END:VEVENT
BEGIN:VEVENT
DTSTART;TZID=America/Los_Angeles:20251206T090000
DTEND;TZID=America/Los_Angeles:20251206T100000
DTSTAMP:20260421T082142
CREATED:20251103T202136Z
LAST-MODIFIED:20251104T004004Z
UID:4992-1765011600-1765015200@villagelaguna.org
SUMMARY:Village Laguna General Meeting Dec. 6 9am - Felders HOME
DESCRIPTION:Village Laguna General Meeting\nDec. 6 9:00 am at Felders home
URL:https://villagelaguna.org/event/village-laguna-general-meeting-nov-6-9am-felders-home/
END:VEVENT
BEGIN:VEVENT
DTSTART;TZID=America/Los_Angeles:20251208T183000
DTEND;TZID=America/Los_Angeles:20251208T203000
DTSTAMP:20260421T082142
CREATED:20251103T202511Z
LAST-MODIFIED:20251104T003919Z
UID:4994-1765218600-1765225800@villagelaguna.org
SUMMARY:Holiday Party -  Pot Luck - Dec 8th at 6:30 PM at the Methodist Church
DESCRIPTION:Holiday Party – Pot Luck\nDec 8th at 6:30 pm at the Methodist Church\non Wesley Dr. – Laguna Beach
URL:https://villagelaguna.org/event/holiday-party-pot-luck-nov-8th-at-630-pm-at-the-methodist-church/
END:VEVENT
BEGIN:VEVENT
DTSTART;TZID=America/Los_Angeles:20260330T190000
DTEND;TZID=America/Los_Angeles:20260330T200000
DTSTAMP:20260421T082142
CREATED:20260326T150433Z
LAST-MODIFIED:20260326T150510Z
UID:5234-1774897200-1774900800@villagelaguna.org
SUMMARY:General Meeting Monday\, March 30\, 2026 7 p.m. Zoom
DESCRIPTION:Meet our Community\nDevelopment Director Matt\nSchneider \nGeneral Meeting Monday\, March 30\,\n7:00 p.m. on zoom: \nhttps://us02web.zoom.us/j/82621833031pwd=CKqkr3NVzdjAo4SpoIpiVglKmJJ WjH.1 \nPlease join us as Matt shares his\nperspective on the challenges facing the\nCommunity Development Department.\nAmong these are proposed revisions to\nthe Zoning Code and the General Plan\,\nwhich set policy and regulations on\nmost decisions that guide Laguna’s\nfuture.
URL:https://villagelaguna.org/event/general-meeting-monday-march-30-2026-7-p-m-zoom/
LOCATION:ZOOM
END:VEVENT
BEGIN:VEVENT
DTSTART;TZID=America/Los_Angeles:20260424T150000
DTEND;TZID=America/Los_Angeles:20260424T170000
DTSTAMP:20260421T082142
CREATED:20260326T151736Z
LAST-MODIFIED:20260326T151736Z
UID:5239-1777042800-1777050000@villagelaguna.org
SUMMARY:Arbor Day Thursday\, April 24\, 3-5 p.m.
DESCRIPTION:Arbor Day\nThursday\, April 24\, 3-5 p.m.\nAlta Laguna Park
URL:https://villagelaguna.org/event/arbor-day-thursday-april-24-3-5-p-m/
END:VEVENT
BEGIN:VEVENT
DTSTART;TZID=America/Los_Angeles:20260513T150000
DTEND;TZID=America/Los_Angeles:20260513T170000
DTSTAMP:20260421T082142
CREATED:20260326T151617Z
LAST-MODIFIED:20260326T151617Z
UID:5237-1778684400-1778691600@villagelaguna.org
SUMMARY:Egan Homestead House Appeal 31526 Valido Road
DESCRIPTION:Council Appeal Meeting\nWednesday\, May 13\, 3 p.m.\nEgan Homestead House Appeal\n31526 Valido Road
URL:https://villagelaguna.org/event/egan-homestead-house-appeal-31526-valido-road/
LOCATION:City Hall\, 505 Forest Ave\, Laguna Beach\, CA 9265\, Laguna Beach\, CA\, 92651\, United States
END:VEVENT
BEGIN:VEVENT
DTSTART;TZID=America/Los_Angeles:20260517T100000
DTEND;TZID=America/Los_Angeles:20260517T170000
DTSTAMP:20260421T082142
CREATED:20260314T225320Z
LAST-MODIFIED:20260326T151839Z
UID:5194-1779012000-1779037200@villagelaguna.org
SUMMARY:Charm House Tour
DESCRIPTION:The House Hunting Committee has whispered that we\nhave some wonderful charmers and impressive Laguna\nmasterpieces in store. Tickets will be on sale at\nVillageLaguna.org\nTo volunteer contact Anne Caenn at 714-501-1816 or\nanne@lagunaemail.com.
URL:https://villagelaguna.org/event/charm-house-tour/
END:VEVENT
END:VCALENDAR