BEGIN:VCALENDAR
VERSION:2.0
PRODID:-//Village Laguna - ECPv6.15.20//NONSGML v1.0//EN
CALSCALE:GREGORIAN
METHOD:PUBLISH
X-ORIGINAL-URL:https://villagelaguna.org
X-WR-CALDESC:Events for Village Laguna
REFRESH-INTERVAL;VALUE=DURATION:PT1H
X-Robots-Tag:noindex
X-PUBLISHED-TTL:PT1H
BEGIN:VTIMEZONE
TZID:America/Los_Angeles
BEGIN:DAYLIGHT
TZOFFSETFROM:-0800
TZOFFSETTO:-0700
TZNAME:PDT
DTSTART:20230312T100000
END:DAYLIGHT
BEGIN:STANDARD
TZOFFSETFROM:-0700
TZOFFSETTO:-0800
TZNAME:PST
DTSTART:20231105T090000
END:STANDARD
BEGIN:DAYLIGHT
TZOFFSETFROM:-0800
TZOFFSETTO:-0700
TZNAME:PDT
DTSTART:20240310T100000
END:DAYLIGHT
BEGIN:STANDARD
TZOFFSETFROM:-0700
TZOFFSETTO:-0800
TZNAME:PST
DTSTART:20241103T090000
END:STANDARD
BEGIN:DAYLIGHT
TZOFFSETFROM:-0800
TZOFFSETTO:-0700
TZNAME:PDT
DTSTART:20250309T100000
END:DAYLIGHT
BEGIN:STANDARD
TZOFFSETFROM:-0700
TZOFFSETTO:-0800
TZNAME:PST
DTSTART:20251102T090000
END:STANDARD
END:VTIMEZONE
BEGIN:VEVENT
DTSTART;TZID=America/Los_Angeles:20240302T080000
DTEND;TZID=America/Los_Angeles:20240302T170000
DTSTAMP:20260420T013722
CREATED:20240213T052525Z
LAST-MODIFIED:20240213T052535Z
UID:3548-1709366400-1709398800@villagelaguna.org
SUMMARY:Village Laguna Board Meeting
DESCRIPTION:Village Laguna Board Meeting – 9:00am \n\nMarch 2 | 9 AM | ZOOM
URL:https://villagelaguna.org/event/village-laguna-board-meeting-2/
ATTACH;FMTTYPE=image/png:https://villagelaguna.org/wp-content/uploads/2023/06/VL-Logo-300w-grey-LAGUNA-93hx100wz.png
END:VEVENT
BEGIN:VEVENT
DTSTART;TZID=America/Los_Angeles:20240325T183000
DTEND;TZID=America/Los_Angeles:20240325T210000
DTSTAMP:20260420T013722
CREATED:20240317T232810Z
LAST-MODIFIED:20240317T232909Z
UID:3592-1711391400-1711400400@villagelaguna.org
SUMMARY:“SAWDUST AND SAND\,” DOUG MILLER DOCUMENTARY AT RIVIAN THEATER
DESCRIPTION:Monday\, March 25 7 p.m.\, doors open at 6:30 p.m. \nFree\, reservations required on line\, seating is limited. https://events.rivian.com/sawdustandsand Rivian South Coast Theater\, 162 South Coast Hwy.
URL:https://villagelaguna.org/event/sawdust-and-sand-doug-miller-documentary-at-rivian-theater/
END:VEVENT
END:VCALENDAR